BEGIN:VCALENDAR
VERSION:2.0
PRODID:icalendar-ruby
CALSCALE:GREGORIAN
METHOD:PUBLISH
BEGIN:VEVENT
DTSTAMP:20260421T082440Z
UID:15-329704@stevenschapelumc.org
DTSTART:20260426T160000Z
DTEND:20260426T173000Z
CLASS:PUBLIC
CREATED:20260325T101014
DESCRIPTION:
LAST-MODIFIED:20260325T101014
LOCATION:
SUMMARY:Fourth Sunday Worship Service 
URL;VALUE=URI:https://stevenschapelumc.org/events/fourth-sunday-worship-ser
 vice/2026-04-26
ATTACH;FILENAME=IMG_5124b.JPEG;FMTTYPE=image/jpeg:https://dq5pwpg1q8ru0.clo
 udfront.net/2026/03/25/15/10/14/d69319d9-5bc5-40f0-9160-3190fd8abd3b/IMG_5
 124b.JPEG
END:VEVENT
END:VCALENDAR
