BEGIN:VCALENDAR
VERSION:2.0
PRODID:icalendar-ruby
CALSCALE:GREGORIAN
METHOD:PUBLISH
BEGIN:VEVENT
DTSTAMP:20260421T100600Z
UID:13-330301@stevenschapelumc.org
DTSTART:20260423T210000Z
DTEND:20260424T220000Z
CLASS:PUBLIC
CREATED:20260325T181143
DESCRIPTION:
LAST-MODIFIED:20260325T181143
LOCATION:
SUMMARY:"Free" Monthly Meal Once A Month
URL;VALUE=URI:https://stevenschapelumc.org/events/free-monthly-meal-once-a-
 month/2026-04-23
ATTACH;FILENAME=Meal_signup.jpg;FMTTYPE=image/jpeg:https://dq5pwpg1q8ru0.cl
 oudfront.net/2026/03/25/15/05/14/2f0530e2-e539-4026-a086-3a277e026849/Meal
 _signup.jpg
END:VEVENT
END:VCALENDAR
